BEGIN:VCALENDAR
VERSION:2.0
PRODID:-//Kystal Light Centre - ECPv5.1.1//NONSGML v1.0//EN
CALSCALE:GREGORIAN
METHOD:PUBLISH
X-WR-CALNAME:Kystal Light Centre
X-ORIGINAL-URL:http://krystallight.com.au
X-WR-CALDESC:Events for Kystal Light Centre
BEGIN:VTIMEZONE
TZID:Asia/Shanghai
BEGIN:STANDARD
TZOFFSETFROM:+0800
TZOFFSETTO:+0800
TZNAME:CST
DTSTART:20200101T000000
END:STANDARD
END:VTIMEZONE
BEGIN:VEVENT
DTSTART;TZID=Asia/Shanghai:20201118T100000
DTEND;TZID=Asia/Shanghai:20201209T120000
DTSTAMP:20210226T072400
CREATED:20201012T081942Z
LAST-MODIFIED:20201012T081942Z
UID:883-1605693600-1607515200@krystallight.com.au
SUMMARY:PSYCHIC DEVELOPMENT COURSE NOVEMBER/DECEMBER
DESCRIPTION:November/December\nThis is a workshop being present to give you an opportunity to join other like minded people and understand your psychic awareness \nIt will also allow you the opportunity to be a part of a continual meeting of like minded people to develop on a regular basis in 2021 \nYou never know where your journey will take you until you take the first step …… \n
URL:http://krystallight.com.au/index.php/event/psychic-development-course-november-december/
END:VEVENT
BEGIN:VEVENT
DTSTART;TZID=Asia/Shanghai:20201206T093000
DTEND;TZID=Asia/Shanghai:20201206T113000
DTSTAMP:20210226T072400
CREATED:20191205T101020Z
LAST-MODIFIED:20200905T052233Z
UID:794-1607247000-1607254200@krystallight.com.au
SUMMARY:December 6th 2020 Busselton Service Mediums: Christine Gregson Sharp OSNU & Kerry Simpson
DESCRIPTION:  \nCHRISTMAS SERVICE \nHealing 9.30am\nService 10.00am\nEntry by donation\nAddress: CWA Hall\nStanley Street\nBusselton \n
URL:http://krystallight.com.au/index.php/event/december-6th-2020-busselton-service-mediums-beverley-bryant-misnister-vita-capelhina/
LOCATION:CWA Hall Busselton\, 48 Stanley Place\, Busselton\, WA\, 6280\, Australia
CATEGORIES:Church Services
END:VEVENT
END:VCALENDAR