BEGIN:VCALENDAR
VERSION:2.0
PRODID:-//Kystal Light Centre - ECPv5.1.1//NONSGML v1.0//EN
CALSCALE:GREGORIAN
METHOD:PUBLISH
X-WR-CALNAME:Kystal Light Centre
X-ORIGINAL-URL:http://krystallight.com.au
X-WR-CALDESC:Events for Kystal Light Centre
BEGIN:VTIMEZONE
TZID:Asia/Shanghai
BEGIN:STANDARD
TZOFFSETFROM:+0800
TZOFFSETTO:+0800
TZNAME:CST
DTSTART:20200101T000000
END:STANDARD
END:VTIMEZONE
BEGIN:VEVENT
DTSTART;TZID=Asia/Shanghai:20201220T093000
DTEND;TZID=Asia/Shanghai:20201220T113000
DTSTAMP:20210226T072507
CREATED:20191205T101239Z
LAST-MODIFIED:20201116T091032Z
UID:796-1608456600-1608463800@krystallight.com.au
SUMMARY:December 20th Capel Christmas Service Mediums: Phyllis Clifford & Aileen Smith
DESCRIPTION:Healing 9.30am\nService 10.00am\nEntry by donation\nAddress: Community Hall (where the library is situated )\nForrest Street\nCapel \n
URL:http://krystallight.com.au/index.php/event/december-20th-christmas-service-mediums-to-be-announced/
LOCATION:Capel RSL\, 7 Forrest Rd\, Capel\, WA\, 6271\, Australia
CATEGORIES:Church Services
END:VEVENT
END:VCALENDAR