BEGIN:VCALENDAR
VERSION:2.0
PRODID:-//Kystal Light Centre - ECPv5.1.1//NONSGML v1.0//EN
CALSCALE:GREGORIAN
METHOD:PUBLISH
X-WR-CALNAME:Kystal Light Centre
X-ORIGINAL-URL:http://krystallight.com.au
X-WR-CALDESC:Events for Kystal Light Centre
BEGIN:VTIMEZONE
TZID:Asia/Shanghai
BEGIN:STANDARD
TZOFFSETFROM:+0800
TZOFFSETTO:+0800
TZNAME:CST
DTSTART:20210101T000000
END:STANDARD
END:VTIMEZONE
BEGIN:VEVENT
DTSTART;TZID=Asia/Shanghai:20210205T190000
DTEND;TZID=Asia/Shanghai:20210205T203000
DTSTAMP:20210226T065722
CREATED:20210110T142245Z
LAST-MODIFIED:20210110T142328Z
UID:930-1612551600-1612557000@krystallight.com.au
SUMMARY:SOUND JOURNEY DALYELLUP/ BUNBURY 5th February 2021
DESCRIPTION: \n
URL:http://krystallight.com.au/index.php/event/sound-journey-dalyellup-bunbury-5th-february-2021/
LOCATION:Dalyellup Community Hall\, 6 Gosse Way\, DALYELLUP\, Western Australia\, 6230\, Australia
CATEGORIES:Sound Journey
END:VEVENT
END:VCALENDAR